BEGIN:VCALENDAR
VERSION:2.0
PRODID:-//hacksw/handcal//NONSGML v1.0//EN
BEGIN:VEVENT
UID:20150610T172345Z-AF23B2@example.com
DTSTAMP:20170724TZ
DTSTART;VALUE=DATE:20170724
DTEND;VALUE=DATE:20170726
SUMMARY:YSI Workshop @ 2017 ECLAC Summer School on Latin American Economies
LOCATION: Venue: 
END:VEVENT
END:VCALENDAR