BEGIN:VCALENDAR
VERSION:2.0
PRODID:-//hacksw/handcal//NONSGML v1.0//EN
BEGIN:VEVENT
UID:20150610T172345Z-AF23B2@example.com
DTSTAMP:20180412T090000Z
DTSTART;VALUE=DATE:20180412
DTEND;VALUE=DATE:20180414
SUMMARY:Finance in the 21st Century
LOCATION: Venue: Norwegian
Business School BI
END:VEVENT
END:VCALENDAR