BEGIN:VCALENDAR
VERSION:2.0
PRODID:-//hacksw/handcal//NONSGML v1.0//EN
BEGIN:VEVENT
UID:20150610T172345Z-AF23B2@example.com
DTSTAMP:20220311T090000Z
DTSTART;VALUE=DATE:20220311
DTEND;VALUE=DATE:20220312
SUMMARY:Young Scholars Initiative Early Career Days, Second Session
LOCATION: Venue: Online
END:VEVENT
END:VCALENDAR