BEGIN:VCALENDAR
VERSION:2.0
PRODID:-//hacksw/handcal//NONSGML v1.0//EN
BEGIN:VEVENT
UID:20150610T172345Z-AF23B2@example.com
DTSTAMP:20220922T083000Z
DTSTART;VALUE=DATE:20220922
DTEND;VALUE=DATE:20220922
SUMMARY:Vikasarth 2022 Session 2: Emigration, Consumption Boom and the Service Economy
LOCATION: Venue: 
END:VEVENT
END:VCALENDAR