BEGIN:VCALENDAR
VERSION:2.0
PRODID:-//hacksw/handcal//NONSGML v1.0//EN
BEGIN:VEVENT
UID:20150610T172345Z-AF23B2@example.com
DTSTAMP:20151105T080000Z
DTSTART;VALUE=DATE:20151105
DTEND;VALUE=DATE:20151105
SUMMARY:Understanding Inequality and What to Do About It
LOCATION: Venue: The University of Chicago
END:VEVENT
END:VCALENDAR