BEGIN:VCALENDAR
VERSION:2.0
PRODID:-//hacksw/handcal//NONSGML v1.0//EN
BEGIN:VEVENT
UID:20150610T172345Z-AF23B2@example.com
DTSTAMP:20201202T120000Z
DTSTART;VALUE=DATE:20201202
DTEND;VALUE=DATE:20201202
SUMMARY:The Future of Work | Meaningful Integration or Jobless Future?
LOCATION: Venue: 
END:VEVENT
END:VCALENDAR