BEGIN:VCALENDAR
VERSION:2.0
PRODID:-//hacksw/handcal//NONSGML v1.0//EN
BEGIN:VEVENT
UID:20150610T172345Z-AF23B2@example.com
DTSTAMP:20210119T120000Z
DTSTART;VALUE=DATE:20210119
DTEND;VALUE=DATE:20210119
SUMMARY:The Future of Work | Making Technologies Work for All
LOCATION: Venue: 
END:VEVENT
END:VCALENDAR