BEGIN:VCALENDAR
VERSION:2.0
PRODID:-//hacksw/handcal//NONSGML v1.0//EN
BEGIN:VEVENT
UID:20150610T172345Z-AF23B2@example.com
DTSTAMP:20160527TZ
DTSTART;VALUE=DATE:20160527
DTEND;VALUE=DATE:20160527
SUMMARY:Shadow Banking and Alternative Finance in China
LOCATION: Venue: Presented by the University of Sydney 
	&lt;a href=&quot;http://sydney.edu.au/csc&quot; target=&quot;_blank&quot;&gt;China Studies Centre&lt;/a&gt;
END:VEVENT
END:VCALENDAR