BEGIN:VCALENDAR
VERSION:2.0
PRODID:-//hacksw/handcal//NONSGML v1.0//EN
BEGIN:VEVENT
UID:20150610T172345Z-AF23B2@example.com
DTSTAMP:20260427TZ
DTSTART;VALUE=DATE:20260427
DTEND;VALUE=DATE:20260428
SUMMARY:Research in Action Workshop 2026
LOCATION: Venue: Ray Dolby Centre, Cavendish Laboratory
END:VEVENT
END:VCALENDAR