BEGIN:VCALENDAR
VERSION:2.0
PRODID:-//hacksw/handcal//NONSGML v1.0//EN
BEGIN:VEVENT
UID:20150610T172345Z-AF23B2@example.com
DTSTAMP:20161123T170000Z
DTSTART;VALUE=DATE:20161123
DTEND;VALUE=DATE:20161123
SUMMARY:Prosperity without Growth with Prof. Tim Jackson
LOCATION: Venue: Old Royal Naval College
END:VEVENT
END:VCALENDAR