BEGIN:VCALENDAR
VERSION:2.0
PRODID:-//hacksw/handcal//NONSGML v1.0//EN
BEGIN:VEVENT
UID:20150610T172345Z-AF23B2@example.com
DTSTAMP:20190620TZ
DTSTART;VALUE=DATE:20190620
DTEND;VALUE=DATE:20190621
SUMMARY:NextGen
LOCATION: Venue: New York
END:VEVENT
END:VCALENDAR