BEGIN:VCALENDAR
VERSION:2.0
PRODID:-//hacksw/handcal//NONSGML v1.0//EN
BEGIN:VEVENT
UID:20150610T172345Z-AF23B2@example.com
DTSTAMP:20240220TZ
DTSTART;VALUE=DATE:20240220
DTEND;VALUE=DATE:20240222
SUMMARY:Meeting of Young Minds in Frontiers of Economics (MYM)
LOCATION: Venue: The Indian Institute of Technology Bombay (IITB), Mumbai, India
END:VEVENT
END:VCALENDAR