BEGIN:VCALENDAR
VERSION:2.0
PRODID:-//hacksw/handcal//NONSGML v1.0//EN
BEGIN:VEVENT
UID:20150610T172345Z-AF23B2@example.com
DTSTAMP:20240118T130000Z
DTSTART;VALUE=DATE:20240118
DTEND;VALUE=DATE:20240118
SUMMARY:Labor Market Volatility Today: From Understanding Volatility to Reducing Financial Insecurity
LOCATION: Venue: 
END:VEVENT
END:VCALENDAR