BEGIN:VCALENDAR
VERSION:2.0
PRODID:-//hacksw/handcal//NONSGML v1.0//EN
BEGIN:VEVENT
UID:20150610T172345Z-AF23B2@example.com
DTSTAMP:20251202TZ
DTSTART;VALUE=DATE:20251202
DTEND;VALUE=DATE:20251204
SUMMARY:International Conference on Digitalisation, Market and Society   ​
LOCATION: Venue: Indian Institute of Science Education and Research
END:VEVENT
END:VCALENDAR