BEGIN:VCALENDAR
VERSION:2.0
PRODID:-//hacksw/handcal//NONSGML v1.0//EN
BEGIN:VEVENT
UID:20150610T172345Z-AF23B2@example.com
DTSTAMP:20210603TZ
DTSTART;VALUE=DATE:20210603
DTEND;VALUE=DATE:20210606
SUMMARY:INET at the Trento Economics Festival
LOCATION: Venue: 
END:VEVENT
END:VCALENDAR