BEGIN:VCALENDAR
VERSION:2.0
PRODID:-//hacksw/handcal//NONSGML v1.0//EN
BEGIN:VEVENT
UID:20150610T172345Z-AF23B2@example.com
DTSTAMP:20241210TZ
DTSTART;VALUE=DATE:20241210
DTEND;VALUE=DATE:20241213
SUMMARY:Inaugural Lecture &amp; Panel Discussion at the Emerging Markets Conference (EMC 2024)
LOCATION: Venue: Boundary Hall, MCA, Mumbai, India
END:VEVENT
END:VCALENDAR