BEGIN:VCALENDAR
VERSION:2.0
PRODID:-//hacksw/handcal//NONSGML v1.0//EN
BEGIN:VEVENT
UID:20150610T172345Z-AF23B2@example.com
DTSTAMP:20140410T060000Z
DTSTART;VALUE=DATE:20140410
DTEND;VALUE=DATE:20140412
SUMMARY:Human After All
LOCATION: Venue: Fairmount Royal York Hotel
END:VEVENT
END:VCALENDAR