BEGIN:VCALENDAR
VERSION:2.0
PRODID:-//hacksw/handcal//NONSGML v1.0//EN
BEGIN:VEVENT
UID:20150610T172345Z-AF23B2@example.com
DTSTAMP:20161012T170000Z
DTSTART;VALUE=DATE:20161012
DTEND;VALUE=DATE:20161012
SUMMARY:&#039;How much is Enough?&#039; with Robert Skidelky
LOCATION: Venue: University of Greenwich
END:VEVENT
END:VCALENDAR