BEGIN:VCALENDAR
VERSION:2.0
PRODID:-//hacksw/handcal//NONSGML v1.0//EN
BEGIN:VEVENT
UID:20150610T172345Z-AF23B2@example.com
DTSTAMP:20180920TZ
DTSTART;VALUE=DATE:20180920
DTEND;VALUE=DATE:20180921
SUMMARY:Hello, Can You Hear Me? Added Value and Inequalities in a Global Market 
LOCATION: Venue: Sapienza University of Rome
END:VEVENT
END:VCALENDAR