BEGIN:VCALENDAR
VERSION:2.0
PRODID:-//hacksw/handcal//NONSGML v1.0//EN
BEGIN:VEVENT
UID:20150610T172345Z-AF23B2@example.com
DTSTAMP:20170512T130000Z
DTSTART;VALUE=DATE:20170512
DTEND;VALUE=DATE:20170513
SUMMARY:Call for Papers - “Institutional Responses to Financial Crises 1870 to 2017”
LOCATION: Venue: Institute for New Economic Thinking
END:VEVENT
END:VCALENDAR