BEGIN:VCALENDAR
VERSION:2.0
PRODID:-//hacksw/handcal//NONSGML v1.0//EN
BEGIN:VEVENT
UID:20150610T172345Z-AF23B2@example.com
DTSTAMP:20130106TZ
DTSTART;VALUE=DATE:20130106
DTEND;VALUE=DATE:20130117
SUMMARY:Azim Premji Winter School 2013
LOCATION: Venue: 
END:VEVENT
END:VCALENDAR